BEGIN:VCALENDAR
VERSION:2.0
PRODID:-//Plone.org//NONSGML plone.app.event//EN
X-WR-TIMEZONE:Europe/Madrid
BEGIN:VEVENT
SUMMARY:VIè Col·loqui d'Història de la Tècnica
DTSTART;TZID=Europe/Madrid:20110630T153000
DTEND;TZID=Europe/Madrid:20110630T200000
DTSTAMP:20260419T180133Z
UID:fdc0335d6c24d7f636c177b851735bf9@peter7.upc.edu:11901
CREATED:20111007T153400Z
LAST-MODIFIED:20111007T155300Z
LOCATION:ETSEIB\, Seminari 6.22
URL:https://cutc.upc.edu/ca/esdeveniments/VICol
END:VEVENT
BEGIN:VTIMEZONE
TZID:Europe/Madrid
X-LIC-LOCATION:Europe/Madrid
BEGIN:DAYLIGHT
DTSTART:20110327T030000
TZNAME:CEST
TZOFFSETFROM:+0100
TZOFFSETTO:+0200
END:DAYLIGHT
END:VTIMEZONE
END:VCALENDAR
