BEGIN:VCALENDAR
VERSION:2.0
PRODID:-//Plone.org//NONSGML plone.app.event//EN
X-WR-TIMEZONE:Europe/Madrid
BEGIN:VEVENT
SUMMARY:Conferència: La física dels superherois
DTSTART;TZID=Europe/Madrid:20080418T194000
DTEND;TZID=Europe/Madrid:20080418T194000
DTSTAMP:20260426T030641Z
UID:3fec2d1e44c9a5d218945bbc490c046b@peter7.upc.edu:11901
CREATED:20101203T184200Z
LAST-MODIFIED:20110211T121000Z
URL:https://cutc.upc.edu/ca/esdeveniments/copy_of_fisica_dels_superherois
END:VEVENT
BEGIN:VTIMEZONE
TZID:Europe/Madrid
X-LIC-LOCATION:Europe/Madrid
BEGIN:DAYLIGHT
DTSTART:20080330T030000
TZNAME:CEST
TZOFFSETFROM:+0100
TZOFFSETTO:+0200
END:DAYLIGHT
END:VTIMEZONE
END:VCALENDAR
