BEGIN:VCALENDAR
VERSION:2.0
PRODID:-//Plone.org//NONSGML plone.app.event//EN
X-WR-TIMEZONE:Europe/Madrid
BEGIN:VEVENT
SUMMARY:«Els robots de Fukushima»
DTSTART;TZID=Europe/Madrid:20121024T180000
DTEND;TZID=Europe/Madrid:20121025T000000
DTSTAMP:20260426T030805Z
UID:9bb53dec-c060-4a53-95f5-f5f0046dd666@peter7.upc.edu:11901
CREATED:20121116T155700Z
LAST-MODIFIED:20121116T161100Z
LOCATION:Sala Fòrum de la FNAC L’ILLA Av. Diagonal\, 549-557\, Barcelon
 a
URL:https://cutc.upc.edu/ca/esdeveniments/els-robots-de-fukushima
END:VEVENT
BEGIN:VTIMEZONE
TZID:Europe/Madrid
X-LIC-LOCATION:Europe/Madrid
BEGIN:DAYLIGHT
DTSTART:20120325T030000
TZNAME:CEST
TZOFFSETFROM:+0100
TZOFFSETTO:+0200
END:DAYLIGHT
END:VTIMEZONE
END:VCALENDAR
